0.250000
0.000000
-0.000000
-0.250000
673300.125000
1992499.875000
