0.250000
0.000000
-0.000000
-0.250000
666300.125000
1999499.875000
