0.0750000000
0.0000000000
0.0000000000
-0.0750000000
577648.9875000001
7734683.2125000004
