0.0750000000
0.0000000000
0.0000000000
-0.0750000000
574648.8375000000
7734683.2125000004
