0.0750000000
0.0000000000
0.0000000000
-0.0750000000
575648.8875000000
7735683.2625000002
