0.0750000000
0.0000000000
0.0000000000
-0.0750000000
578649.0375000000
7737683.3624999998
