0.0750000000
0.0000000000
0.0000000000
-0.0750000000
579649.0875000000
7740683.5125000002
