0.0750000000
0.0000000000
0.0000000000
-0.0750000000
573648.7875000000
7740683.5125000002
