0.0750000000
0.0000000000
0.0000000000
-0.0750000000
579649.0875000000
7742683.6124999998
