0.0750000000
0.0000000000
0.0000000000
-0.0750000000
575648.8875000000
7742683.6124999998
