0.0750000000
0.0000000000
0.0000000000
-0.0750000000
436112.3625000000
7580035.6875000000
