0.0750000000
0.0000000000
0.0000000000
-0.0750000000
438112.4625000000
7581035.7374999998
