0.0750000000
0.0000000000
0.0000000000
-0.0750000000
428111.9625000000
7581035.7374999998
