0.0750000000
0.0000000000
0.0000000000
-0.0750000000
430112.0625000000
7582035.7874999996
