0.0750000000
0.0000000000
0.0000000000
-0.0750000000
425111.8125000000
7582035.7874999996
