0.0750000000
0.0000000000
0.0000000000
-0.0750000000
435112.3125000000
7583035.8375000004
