0.0750000000
0.0000000000
0.0000000000
-0.0750000000
437112.4125000000
7584035.8875000002
