0.0750000000
0.0000000000
0.0000000000
-0.0750000000
433112.2125000000
7584035.8875000002
