0.0750000000
0.0000000000
0.0000000000
-0.0750000000
424111.7625000000
7585035.9375000000
