0.0500000000
0.0000000000
0.0000000000
-0.0500000000
517000.0250000000
3200999.9750000001
