0.0500000000
0.0000000000
0.0000000000
-0.0500000000
515000.0250000000
3204999.9750000001
