0.0500000000
0.0000000000
0.0000000000
-0.0500000000
514000.0250000000
3206999.9750000001
