0.0500000000
0.0000000000
0.0000000000
-0.0500000000
513000.0250000000
3205999.9750000001
