0.0500000000
0.0000000000
0.0000000000
-0.0500000000
512000.0250000000
3207999.9750000001
