0.0500000000
0.0000000000
0.0000000000
-0.0500000000
511000.0250000000
3211999.9750000001
