0.0500000000
0.0000000000
0.0000000000
-0.0500000000
510000.0250000000
3210999.9750000001
