0.0500000000
0.0000000000
0.0000000000
-0.0500000000
508000.0250000000
3215999.9750000001
