0.0500000000
0.0000000000
0.0000000000
-0.0500000000
507000.0250000000
3216999.9750000001
