0.0500000000
0.0000000000
0.0000000000
-0.0500000000
506000.0250000000
3218999.9750000001
