0.0500000000
0.0000000000
0.0000000000
-0.0500000000
505000.0250000000
3220999.9750000001
