0.0500000000
0.0000000000
0.0000000000
-0.0500000000
504000.0250000000
3221999.9750000001
