0.0500000000
0.0000000000
0.0000000000
-0.0500000000
503000.0250000000
3224999.9750000001
