0.0500000000
0.0000000000
0.0000000000
-0.0500000000
502000.0250000000
3226999.9750000001
