0.0500000000
0.0000000000
0.0000000000
-0.0500000000
500000.0250000000
3232999.9750000001
