0.0500000000
0.0000000000
0.0000000000
-0.0500000000
500000.0250000000
3229999.9750000001
