0.0500000000
0.0000000000
0.0000000000
-0.0500000000
525000.0250000000
3184999.9750000001
