0.0500000000
0.0000000000
0.0000000000
-0.0500000000
524000.0250000000
3187999.9750000001
