0.0500000000
0.0000000000
0.0000000000
-0.0500000000
523000.0250000000
3191999.9750000001
