0.0500000000
0.0000000000
0.0000000000
-0.0500000000
522000.0250000000
3192999.9750000001
