0.0500000000
0.0000000000
0.0000000000
-0.0500000000
521000.0250000000
3194999.9750000001
