0.0500000000
0.0000000000
0.0000000000
-0.0500000000
520000.0250000000
3195999.9750000001
