0.0500000000
0.0000000000
0.0000000000
-0.0500000000
518000.0250000000
3197999.9750000001
