0.0500000000
0.0000000000
0.0000000000
-0.0500000000
516000.0250000000
3199999.9750000001
