0.0500000000
0.0000000000
0.0000000000
-0.0500000000
474000.0250000000
3301999.9750000001
