0.0500000000
0.0000000000
0.0000000000
-0.0500000000
472000.0250000000
3306999.9750000001
