0.0500000000
0.0000000000
0.0000000000
-0.0500000000
471000.0250000000
3309999.9750000001
