0.0500000000
0.0000000000
0.0000000000
-0.0500000000
470000.0250000000
3312999.9750000001
