0.0500000000
0.0000000000
0.0000000000
-0.0500000000
469000.0250000000
3317999.9750000001
