0.0500000000
0.0000000000
0.0000000000
-0.0500000000
468000.0250000000
3327999.9750000001
