0.0500000000
0.0000000000
0.0000000000
-0.0500000000
467000.0250000000
3323999.9750000001
